BEGIN:VCALENDAR
VERSION:2.0
PRODID:-//Be in Health - ECPv6.15.17//NONSGML v1.0//EN
CALSCALE:GREGORIAN
METHOD:PUBLISH
X-WR-CALNAME:Be in Health
X-ORIGINAL-URL:https://www.beinhealth.com
X-WR-CALDESC:Events for Be in Health
REFRESH-INTERVAL;VALUE=DURATION:PT1H
X-Robots-Tag:noindex
X-PUBLISHED-TTL:PT1H
BEGIN:VTIMEZONE
TZID:America/New_York
BEGIN:DAYLIGHT
TZOFFSETFROM:-0500
TZOFFSETTO:-0400
TZNAME:EDT
DTSTART:20250309T070000
END:DAYLIGHT
BEGIN:STANDARD
TZOFFSETFROM:-0400
TZOFFSETTO:-0500
TZNAME:EST
DTSTART:20251102T060000
END:STANDARD
BEGIN:DAYLIGHT
TZOFFSETFROM:-0500
TZOFFSETTO:-0400
TZNAME:EDT
DTSTART:20260308T070000
END:DAYLIGHT
BEGIN:STANDARD
TZOFFSETFROM:-0400
TZOFFSETTO:-0500
TZNAME:EST
DTSTART:20261101T060000
END:STANDARD
BEGIN:DAYLIGHT
TZOFFSETFROM:-0500
TZOFFSETTO:-0400
TZNAME:EDT
DTSTART:20270314T070000
END:DAYLIGHT
BEGIN:STANDARD
TZOFFSETFROM:-0400
TZOFFSETTO:-0500
TZNAME:EST
DTSTART:20271107T060000
END:STANDARD
END:VTIMEZONE
BEGIN:VEVENT
DTSTART;VALUE=DATE:20260907
DTEND;VALUE=DATE:20260913
DTSTAMP:20260419T092534
CREATED:20250903T152438Z
LAST-MODIFIED:20260326T155231Z
UID:27431-1788750000-1789181999@www.beinhealth.com
SUMMARY:For My Life® Retreat : Sept 7-11\, 2026
DESCRIPTION:Over 50\,000 people have attended For My Life over the years and our loving and highly-trained team are ready to help you make disease a thing of the past. Check out these testimonies to see what God is doing through For My Life. Trust us\, you will never be the same! \n\nRegister
URL:https://www.beinhealth.com/event/for-my-life-retreat-sept-7-11-2026/
CATEGORIES:For My Life,Our Programs
END:VEVENT
BEGIN:VEVENT
DTSTART;VALUE=DATE:20260914
DTEND;VALUE=DATE:20260920
DTSTAMP:20260419T092534
CREATED:20250903T153542Z
LAST-MODIFIED:20250903T153542Z
UID:27443-1789354800-1789786799@www.beinhealth.com
SUMMARY:For My Life® Walk Out®: Sept 14-18\, 2026
DESCRIPTION:After For My Life®\, the next step is the For My Life Walk Out. The term walk out refers to the journey of walking out of the old life of disease and hopelessness and into a new life of health and wholeness. During this one week workshop our team and attendees roll up their sleeves and begin to get really interactive with the principles from For My Life. \n\n REGISTER
URL:https://www.beinhealth.com/event/for-my-life-walk-out-sept-14-18-2026/
CATEGORIES:Our Programs,Walk Out Workshop
END:VEVENT
BEGIN:VEVENT
DTSTART;TZID=America/New_York:20260925T120000
DTEND;TZID=America/New_York:20260925T220000
DTSTAMP:20260419T092534
CREATED:20251210T192728Z
LAST-MODIFIED:20251210T192728Z
UID:27935-1790337600-1790373600@www.beinhealth.com
SUMMARY:2026 Men’s Conference - Momentum: Forged in Fire
DESCRIPTION:We are excited to announce our 2026 Men’s Conference—Momentum: Forged in Fire. \nMomentum is defined as a property of a moving body that determines the time required to bring it to rest when under the action of a constant force. \nAs men\, we hold a pivotal role in our families and communities. We are the pillars of health\, safety\, security\, and spiritual stability. However\, many of us were not taught how to fulfill this role effectively\, causing us to lose our momentum and forward motion and stall out. We face struggles and fears that we don’t know how to combat. The consequences of this loss of momentum are evident in families\, jobs\, churches\, and our country. \nWe are all being forged in the fires of life. These fires test our faith\, prove our resolve\, and expose impurities. The question is: who will we allow to shape us in the midst of these fires? Depending on who shapes us\, we can either become a strong weapon or a weak\, fragile one. \nIf we allow the Creator of all to forge us in the midst of the fire\, we will emerge strong\, durable\, and mighty Men of God. \nMomentum 2026: Forged in Fire will discuss some of the forging fires that come\, how to endure the trials and tribulations of life\, and how to have joy and peace in the midst of the fire so we can emerge as more dedicated\, compassionate\, and loving men of God. \nThis two-day conference includes: \n· Lunch on Friday\n· Breakfast\, lunch\, and dinner on Saturday\n· Prayer and ministry time \nEarly bird special: register before July 15 for only $149! After July 15\, the price goes up to $199.\nCall (706) 646-2074 for more information about our accommodations. \nSpeakers: Pastor Scott Harper and Aaron Ward \nSchedule: \nFriday\n12-2pm Lunch\n2-5pm Session\n7-10pm Church \nSaturday\n8:30-9:30am Breakfast\n9:30-12pm Session\n12-2pm Lunch\n2-5pm Session and Small Group Breakout\n8-10pm After Party Cookout \nRegister
URL:https://www.beinhealth.com/event/2026-mens-conference-momentum-forged-in-fire/
CATEGORIES:Specialty Conferences
END:VEVENT
BEGIN:VEVENT
DTSTART;TZID=America/New_York:20260926T083000
DTEND;TZID=America/New_York:20260926T220000
DTSTAMP:20260419T092534
CREATED:20251210T193523Z
LAST-MODIFIED:20251210T193523Z
UID:27937-1790411400-1790460000@www.beinhealth.com
SUMMARY:2026 Men’s Conference - Momentum: Forged in Fire
DESCRIPTION:We are excited to announce our 2026 Men’s Conference—Momentum: Forged in Fire. \nMomentum is defined as a property of a moving body that determines the time required to bring it to rest when under the action of a constant force. \nAs men\, we hold a pivotal role in our families and communities. We are the pillars of health\, safety\, security\, and spiritual stability. However\, many of us were not taught how to fulfill this role effectively\, causing us to lose our momentum and forward motion and stall out. We face struggles and fears that we don’t know how to combat. The consequences of this loss of momentum are evident in families\, jobs\, churches\, and our country. \nWe are all being forged in the fires of life. These fires test our faith\, prove our resolve\, and expose impurities. The question is: who will we allow to shape us in the midst of these fires? Depending on who shapes us\, we can either become a strong weapon or a weak\, fragile one. \nIf we allow the Creator of all to forge us in the midst of the fire\, we will emerge strong\, durable\, and mighty Men of God. \nMomentum 2026: Forged in Fire will discuss some of the forging fires that come\, how to endure the trials and tribulations of life\, and how to have joy and peace in the midst of the fire so we can emerge as more dedicated\, compassionate\, and loving men of God. \nThis two-day conference includes: \n· Lunch on Friday\n· Breakfast\, lunch\, and dinner on Saturday\n· Prayer and ministry time \nEarly bird special: register before July 15 for only $149! After July 15\, the price goes up to $199.\nCall (706) 646-2074 for more information about our accommodations. \nSpeakers: Pastor Scott Harper and Aaron Ward \nSchedule: \nFriday\n12-2pm Lunch\n2-5pm Session\n7-10pm Church \nSaturday\n8:30-9:30am Breakfast\n9:30-12pm Session\n12-2pm Lunch\n2-5pm Session and Small Group Breakout\n8-10pm After Party Cookout \nRegister
URL:https://www.beinhealth.com/event/2026-mens-conference-momentum-forged-in-fire-2/
CATEGORIES:Specialty Conferences
END:VEVENT
END:VCALENDAR