BEGIN:VCALENDAR
VERSION:2.0
PRODID:-//Be in Health - ECPv6.15.20//NONSGML v1.0//EN
CALSCALE:GREGORIAN
METHOD:PUBLISH
X-WR-CALNAME:Be in Health
X-ORIGINAL-URL:https://www.beinhealth.com
X-WR-CALDESC:Events for Be in Health
REFRESH-INTERVAL;VALUE=DURATION:PT1H
X-Robots-Tag:noindex
X-PUBLISHED-TTL:PT1H
BEGIN:VTIMEZONE
TZID:America/New_York
BEGIN:DAYLIGHT
TZOFFSETFROM:-0500
TZOFFSETTO:-0400
TZNAME:EDT
DTSTART:20250309T070000
END:DAYLIGHT
BEGIN:STANDARD
TZOFFSETFROM:-0400
TZOFFSETTO:-0500
TZNAME:EST
DTSTART:20251102T060000
END:STANDARD
BEGIN:DAYLIGHT
TZOFFSETFROM:-0500
TZOFFSETTO:-0400
TZNAME:EDT
DTSTART:20260308T070000
END:DAYLIGHT
BEGIN:STANDARD
TZOFFSETFROM:-0400
TZOFFSETTO:-0500
TZNAME:EST
DTSTART:20261101T060000
END:STANDARD
BEGIN:DAYLIGHT
TZOFFSETFROM:-0500
TZOFFSETTO:-0400
TZNAME:EDT
DTSTART:20270314T070000
END:DAYLIGHT
BEGIN:STANDARD
TZOFFSETFROM:-0400
TZOFFSETTO:-0500
TZNAME:EST
DTSTART:20271107T060000
END:STANDARD
END:VTIMEZONE
BEGIN:VEVENT
DTSTART;TZID=America/New_York:20261012T140000
DTEND;TZID=America/New_York:20261016T190000
DTSTAMP:20260421T214026
CREATED:20251210T194851Z
LAST-MODIFIED:20251210T195147Z
UID:27941-1791813600-1792177200@www.beinhealth.com
SUMMARY:Marriage Retreat - Restoring The Heart Of Covenant
DESCRIPTION:We are excited to announce\, “Restoring the Heart of Covenant” Marriage Retreat on October 12 – 16\, 2026 in Thomaston\, GA. \nScriptures describe marriage as a covenant between a man and a woman. During this five-day event\, we will discuss what being in a covenant means\, its importance\, and examples of covenants in Scripture that relate to marriage. Throughout the retreat\, we will explore honest conversations around Godly Order\, how to properly cover your wife\, how to be a Godly helpmate\, and so much more. There will be times of question and answer and even a few surprises. \nThis event is for married couples only. Price includes tuition\, gift bags\, and three catered dinners including a special date night. Topics will be presented by the Be in Health Elders. \nThe cost of the retreat is $459 per person. Please select two tickets at check out. \nIf you choose to stay on a Be in Health property\, the cost of accommodations is $684 per week. Please select one or two tickets at check out\, and our Guest Services Team will call you to select your accommodations. \nSchedule: \nMonday\, Oct 12: 2:00-6:00pm\nTuesday\, Oct 13: 10:00am-5:00pm\, and 7:00-9:00pm (break for lunch on your own; dinner is included)\nWednesday\, Oct 14: 10:00am-5:00pm\, and 7:00-9:00pm (break for lunch on your own; dinner is included)\nThursday\, Oct 15: 10:00am-12:00pm\, and 6:00pm special date night dinner\nFriday\, Oct 16: 10:00am-3:00pm (break for lunch on your own)\, join us for church at 7:00pm \nRegister
URL:https://www.beinhealth.com/event/marriage-retreat-restoring-the-heart-of-covenant/
CATEGORIES:Specialty Conferences
END:VEVENT
END:VCALENDAR